Package: parody Version: 1.60.0 Command: rm -rf parody.buildbin-libdir && mkdir parody.buildbin-libdir && /Users/biocbuild/BBS/utils/build-universal.sh parody_1.60.0.tar.gz /Library/Frameworks/R.framework/Resources/bin/R parody.buildbin-libdir StartedAt: 2024-03-04 00:55:26 -0500 (Mon, 04 Mar 2024) EndedAt: 2024-03-04 00:55:32 -0500 (Mon, 04 Mar 2024) EllapsedTime: 5.7 seconds RetCode: 0 Status: OK PackageFile: parody_1.60.0.tgz PackageFileSize: 497.4 KiB