Package: parody Version: 1.60.0 Command: /home/biocbuild/R/R-4.3.1/bin/R CMD check --install=check:parody.install-out.txt --library=/home/biocbuild/R/R-4.3.1/site-library --no-vignettes --timings parody_1.60.0.tar.gz StartedAt: 2023-11-02 12:56:58 -0000 (Thu, 02 Nov 2023) EndedAt: 2023-11-02 12:57:29 -0000 (Thu, 02 Nov 2023) EllapsedTime: 30.3 seconds RetCode: 0 Status: OK CheckDir: parody.Rcheck Warnings: 0