Package: parglms Version: 1.34.0 Command: chmod a+r parglms -R && F:\biocbuild\bbs-3.18-bioc\R\bin\R.exe CMD build --keep-empty-dirs --no-resave-data parglms StartedAt: 2024-04-15 20:08:47 -0400 (Mon, 15 Apr 2024) EndedAt: 2024-04-15 20:09:08 -0400 (Mon, 15 Apr 2024) EllapsedTime: 21.8 seconds RetCode: 0 Status: OK PackageFile: parglms_1.34.0.tar.gz PackageFileSize: 274.7 KiB