Package: parglms Version: 1.34.0 Command: rm -rf parglms.buildbin-libdir && mkdir parglms.buildbin-libdir && /Users/biocbuild/BBS/utils/build-universal.sh parglms_1.34.0.tar.gz /Library/Frameworks/R.framework/Resources/bin/R parglms.buildbin-libdir StartedAt: 2024-04-16 12:23:59 -0400 (Tue, 16 Apr 2024) EndedAt: 2024-04-16 12:24:11 -0400 (Tue, 16 Apr 2024) EllapsedTime: 11.2 seconds RetCode: 0 Status: OK PackageFile: parglms_1.34.0.tgz PackageFileSize: 294.3 KiB