Package: parglms Version: 1.34.0 Command: /Library/Frameworks/R.framework/Resources/bin/R CMD build --keep-empty-dirs --no-resave-data parglms StartedAt: 2024-03-03 17:43:58 -0500 (Sun, 03 Mar 2024) EndedAt: 2024-03-03 17:45:05 -0500 (Sun, 03 Mar 2024) EllapsedTime: 67.0 seconds RetCode: 0 Status: OK PackageFile: parglms_1.34.0.tar.gz PackageFileSize: 273.9 KiB