Package: panp Version: 1.72.0 Command: F:\biocbuild\bbs-3.18-bioc\R\bin\R.exe CMD check --no-multiarch --install=check:panp.install-out.txt --library=F:\biocbuild\bbs-3.18-bioc\R\library --no-vignettes --timings panp_1.72.0.tar.gz StartedAt: 2024-04-16 03:35:16 -0400 (Tue, 16 Apr 2024) EndedAt: 2024-04-16 03:36:02 -0400 (Tue, 16 Apr 2024) EllapsedTime: 45.5 seconds RetCode: 0 Status: OK CheckDir: panp.Rcheck Warnings: 0