Package: panp Version: 1.72.0 Command: rm -rf panp.buildbin-libdir && mkdir panp.buildbin-libdir && F:\biocbuild\bbs-3.18-bioc\R\bin\R.exe CMD INSTALL --build --library=panp.buildbin-libdir panp_1.72.0.tar.gz StartedAt: 2024-04-16 07:25:06 -0400 (Tue, 16 Apr 2024) EndedAt: 2024-04-16 07:25:16 -0400 (Tue, 16 Apr 2024) EllapsedTime: 9.6 seconds RetCode: 0 Status: OK PackageFile: panp_1.72.0.zip PackageFileSize: 528.8 KiB