Package: panp Version: 1.72.0 Command: /Library/Frameworks/R.framework/Resources/bin/R CMD INSTALL panp StartedAt: 2024-04-15 15:07:31 -0400 (Mon, 15 Apr 2024) EndedAt: 2024-04-15 15:07:59 -0400 (Mon, 15 Apr 2024) EllapsedTime: 27.5 seconds RetCode: 0 Status: OK