Package: pairkat Version: 1.8.0 Command: rm -rf pairkat.buildbin-libdir && mkdir pairkat.buildbin-libdir && /Users/biocbuild/BBS/utils/build-universal.sh pairkat_1.8.0.tar.gz /Library/Frameworks/R.framework/Resources/bin/R pairkat.buildbin-libdir StartedAt: 2024-03-04 00:55:16 -0500 (Mon, 04 Mar 2024) EndedAt: 2024-03-04 00:55:52 -0500 (Mon, 04 Mar 2024) EllapsedTime: 36.2 seconds RetCode: 0 Status: OK PackageFile: pairkat_1.8.0.tgz PackageFileSize: 842.2 KiB