Package: pairedGSEA Version: 1.2.0 Command: /Library/Frameworks/R.framework/Resources/bin/R CMD build --keep-empty-dirs --no-resave-data pairedGSEA StartedAt: 2024-03-03 17:42:02 -0500 (Sun, 03 Mar 2024) EndedAt: 2024-03-03 17:46:26 -0500 (Sun, 03 Mar 2024) EllapsedTime: 264.3 seconds RetCode: 0 Status: OK PackageFile: pairedGSEA_1.2.0.tar.gz PackageFileSize: 597.5 KiB