Package: paircompviz Version: 1.40.0 Command: /Library/Frameworks/R.framework/Resources/bin/R CMD build --keep-empty-dirs --no-resave-data paircompviz StartedAt: 2024-04-15 20:41:33 -0400 (Mon, 15 Apr 2024) EndedAt: 2024-04-15 20:42:33 -0400 (Mon, 15 Apr 2024) EllapsedTime: 60.4 seconds RetCode: 0 Status: OK PackageFile: paircompviz_1.40.0.tar.gz PackageFileSize: 354.1 KiB