Package: paircompviz Version: 1.40.0 Command: /Library/Frameworks/R.framework/Resources/bin/R CMD check --install=check:paircompviz.install-out.txt --library=/Library/Frameworks/R.framework/Resources/library --no-vignettes --timings paircompviz_1.40.0.tar.gz StartedAt: 2024-03-03 22:24:25 -0500 (Sun, 03 Mar 2024) EndedAt: 2024-03-03 22:25:54 -0500 (Sun, 03 Mar 2024) EllapsedTime: 88.7 seconds RetCode: 0 Status: OK CheckDir: paircompviz.Rcheck Warnings: 0