Package: pageRank Version: 1.12.0 Command: rm -rf pageRank.buildbin-libdir && mkdir pageRank.buildbin-libdir && F:\biocbuild\bbs-3.18-bioc\R\bin\R.exe CMD INSTALL --build --library=pageRank.buildbin-libdir pageRank_1.12.0.tar.gz StartedAt: 2024-04-16 07:24:40 -0400 (Tue, 16 Apr 2024) EndedAt: 2024-04-16 07:25:43 -0400 (Tue, 16 Apr 2024) EllapsedTime: 63.0 seconds RetCode: 0 Status: OK PackageFile: pageRank_1.12.0.zip PackageFileSize: 178.7 KiB