Package: packFinder Version: 1.14.0 Command: F:\biocbuild\bbs-3.18-bioc\R\bin\R.exe CMD INSTALL packFinder StartedAt: 2024-04-15 16:18:56 -0400 (Mon, 15 Apr 2024) EndedAt: 2024-04-15 16:19:04 -0400 (Mon, 15 Apr 2024) EllapsedTime: 7.2 seconds RetCode: 0 Status: OK