Package: packFinder Version: 1.14.0 Command: chmod a+r packFinder -R && F:\biocbuild\bbs-3.18-bioc\R\bin\R.exe CMD build --keep-empty-dirs --no-resave-data packFinder StartedAt: 2024-04-15 20:05:34 -0400 (Mon, 15 Apr 2024) EndedAt: 2024-04-15 20:05:55 -0400 (Mon, 15 Apr 2024) EllapsedTime: 21.3 seconds RetCode: 0 Status: OK PackageFile: packFinder_1.14.0.tar.gz PackageFileSize: 1.129 MiB