Package: packFinder Version: 1.14.0 Command: /Library/Frameworks/R.framework/Resources/bin/R CMD INSTALL packFinder StartedAt: 2024-04-15 16:01:52 -0400 (Mon, 15 Apr 2024) EndedAt: 2024-04-15 16:01:58 -0400 (Mon, 15 Apr 2024) EllapsedTime: 5.4 seconds RetCode: 0 Status: OK