Package: packFinder Version: 1.14.0 Command: /home/biocbuild/R/R-4.3.1/bin/R CMD INSTALL packFinder StartedAt: 2023-11-01 20:40:51 -0000 (Wed, 01 Nov 2023) EndedAt: 2023-11-01 20:40:54 -0000 (Wed, 01 Nov 2023) EllapsedTime: 3.0 seconds RetCode: 0 Status: OK