Package: pRolocGUI Version: 2.12.0 Command: /home/biocbuild/bbs-3.18-bioc/R/bin/R CMD check --install=check:pRolocGUI.install-out.txt --library=/home/biocbuild/bbs-3.18-bioc/R/site-library --timings pRolocGUI_2.12.0.tar.gz StartedAt: 2024-04-16 02:30:36 -0400 (Tue, 16 Apr 2024) EndedAt: 2024-04-16 02:36:18 -0400 (Tue, 16 Apr 2024) EllapsedTime: 342.0 seconds RetCode: 0 Status: OK CheckDir: pRolocGUI.Rcheck Warnings: 0