Package: orthos Version: 1.0.1 Command: chmod a+r orthos -R && F:\biocbuild\bbs-3.18-bioc\R\bin\R.exe CMD build --keep-empty-dirs --no-resave-data orthos StartedAt: 2024-04-15 20:03:39 -0400 (Mon, 15 Apr 2024) EndedAt: 2024-04-15 20:18:52 -0400 (Mon, 15 Apr 2024) EllapsedTime: 913.7 seconds RetCode: 0 Status: OK PackageFile: orthos_1.0.1.tar.gz PackageFileSize: 4.764 MiB