Package: orthogene Version: 1.8.0 Command: rm -rf orthogene.buildbin-libdir && mkdir orthogene.buildbin-libdir && F:\biocbuild\bbs-3.18-bioc\R\bin\R.exe CMD INSTALL --build --library=orthogene.buildbin-libdir orthogene_1.8.0.tar.gz StartedAt: 2024-04-16 07:24:19 -0400 (Tue, 16 Apr 2024) EndedAt: 2024-04-16 07:24:42 -0400 (Tue, 16 Apr 2024) EllapsedTime: 23.4 seconds RetCode: 0 Status: OK PackageFile: orthogene_1.8.0.zip PackageFileSize: 2.668 MiB