Package: orthogene Version: 1.8.0 Command: rm -rf orthogene.buildbin-libdir && mkdir orthogene.buildbin-libdir && /Users/biocbuild/BBS/utils/build-universal.sh orthogene_1.8.0.tar.gz /Library/Frameworks/R.framework/Resources/bin/R orthogene.buildbin-libdir StartedAt: 2024-04-16 12:22:39 -0400 (Tue, 16 Apr 2024) EndedAt: 2024-04-16 12:23:05 -0400 (Tue, 16 Apr 2024) EllapsedTime: 26.2 seconds RetCode: 0 Status: OK PackageFile: orthogene_1.8.0.tgz PackageFileSize: 2.829 MiB