Package: oppti Version: 1.16.0 Command: chmod a+r oppti -R && F:\biocbuild\bbs-3.18-bioc\R\bin\R.exe CMD build --keep-empty-dirs --no-resave-data oppti StartedAt: 2024-04-15 20:01:31 -0400 (Mon, 15 Apr 2024) EndedAt: 2024-04-15 20:02:00 -0400 (Mon, 15 Apr 2024) EllapsedTime: 28.4 seconds RetCode: 0 Status: OK PackageFile: oppti_1.16.0.tar.gz PackageFileSize: 74.55 KiB