Package: openCyto Version: 2.14.0 Command: /home/biocbuild/R/R-4.3.1/bin/R CMD check --install=check:openCyto.install-out.txt --library=/home/biocbuild/R/R-4.3.1/site-library --no-vignettes --timings openCyto_2.14.0.tar.gz StartedAt: 2023-11-02 12:49:34 -0000 (Thu, 02 Nov 2023) EndedAt: 2023-11-02 12:52:43 -0000 (Thu, 02 Nov 2023) EllapsedTime: 188.6 seconds RetCode: 0 Status: WARNINGS CheckDir: openCyto.Rcheck Warnings: 4