Package: ontoProc Version: 1.24.0 Command: rm -rf ontoProc.buildbin-libdir && mkdir ontoProc.buildbin-libdir && F:\biocbuild\bbs-3.18-bioc\R\bin\R.exe CMD INSTALL --build --library=ontoProc.buildbin-libdir ontoProc_1.24.0.tar.gz StartedAt: 2024-04-16 07:23:45 -0400 (Tue, 16 Apr 2024) EndedAt: 2024-04-16 07:24:34 -0400 (Tue, 16 Apr 2024) EllapsedTime: 48.9 seconds RetCode: 0 Status: OK PackageFile: ontoProc_1.24.0.zip PackageFileSize: 7.291 MiB