Package: ontoProc Version: 1.24.0 Command: /Library/Frameworks/R.framework/Resources/bin/R CMD check --install=check:ontoProc.install-out.txt --library=/Library/Frameworks/R.framework/Resources/library --no-vignettes --timings ontoProc_1.24.0.tar.gz StartedAt: 2024-04-16 06:27:42 -0400 (Tue, 16 Apr 2024) EndedAt: 2024-04-16 06:47:23 -0400 (Tue, 16 Apr 2024) EllapsedTime: 1181.8 seconds RetCode: 0 Status: OK CheckDir: ontoProc.Rcheck Warnings: 0