Package: ontoProc Version: 1.24.0 Command: rm -rf ontoProc.buildbin-libdir && mkdir ontoProc.buildbin-libdir && /Users/biocbuild/BBS/utils/build-universal.sh ontoProc_1.24.0.tar.gz /Library/Frameworks/R.framework/Resources/bin/R ontoProc.buildbin-libdir StartedAt: 2024-04-16 12:21:56 -0400 (Tue, 16 Apr 2024) EndedAt: 2024-04-16 12:23:10 -0400 (Tue, 16 Apr 2024) EllapsedTime: 73.6 seconds RetCode: 0 Status: OK PackageFile: ontoProc_1.24.0.tgz PackageFileSize: 7.385 MiB