Package: oneSENSE Version: 1.24.0 Command: rm -rf oneSENSE.buildbin-libdir && mkdir oneSENSE.buildbin-libdir && /Users/biocbuild/BBS/utils/build-universal.sh oneSENSE_1.24.0.tar.gz /Library/Frameworks/R.framework/Resources/bin/R oneSENSE.buildbin-libdir StartedAt: 2024-04-16 12:21:51 -0400 (Tue, 16 Apr 2024) EndedAt: 2024-04-16 12:22:15 -0400 (Tue, 16 Apr 2024) EllapsedTime: 24.0 seconds RetCode: 0 Status: OK PackageFile: oneSENSE_1.24.0.tgz PackageFileSize: 1.656 MiB