Package: oncoscanR Version: 1.4.0 Command: F:\biocbuild\bbs-3.18-bioc\R\bin\R.exe CMD check --no-multiarch --install=check:oncoscanR.install-out.txt --library=F:\biocbuild\bbs-3.18-bioc\R\library --no-vignettes --timings oncoscanR_1.4.0.tar.gz StartedAt: 2024-04-16 03:25:01 -0400 (Tue, 16 Apr 2024) EndedAt: 2024-04-16 03:31:47 -0400 (Tue, 16 Apr 2024) EllapsedTime: 405.9 seconds RetCode: 0 Status: OK CheckDir: oncoscanR.Rcheck Warnings: 0