Package: oncoscanR Version: 1.4.0 Command: rm -rf oncoscanR.buildbin-libdir && mkdir oncoscanR.buildbin-libdir && F:\biocbuild\bbs-3.18-bioc\R\bin\R.exe CMD INSTALL --build --library=oncoscanR.buildbin-libdir oncoscanR_1.4.0.tar.gz StartedAt: 2024-04-16 07:23:36 -0400 (Tue, 16 Apr 2024) EndedAt: 2024-04-16 07:23:55 -0400 (Tue, 16 Apr 2024) EllapsedTime: 18.9 seconds RetCode: 0 Status: OK PackageFile: oncoscanR_1.4.0.zip PackageFileSize: 1.041 MiB