Package: oncoscanR Version: 1.4.0 Command: /home/biocbuild/bbs-3.18-bioc/R/bin/R CMD check --install=check:oncoscanR.install-out.txt --library=/home/biocbuild/bbs-3.18-bioc/R/site-library --timings oncoscanR_1.4.0.tar.gz StartedAt: 2024-04-16 01:45:05 -0400 (Tue, 16 Apr 2024) EndedAt: 2024-04-16 02:02:40 -0400 (Tue, 16 Apr 2024) EllapsedTime: 1054.7 seconds RetCode: 0 Status: OK CheckDir: oncoscanR.Rcheck Warnings: 0