Package: oncoscanR Version: 1.4.0 Command: /Library/Frameworks/R.framework/Resources/bin/R CMD INSTALL oncoscanR StartedAt: 2024-03-03 15:08:28 -0500 (Sun, 03 Mar 2024) EndedAt: 2024-03-03 15:08:45 -0500 (Sun, 03 Mar 2024) EllapsedTime: 17.0 seconds RetCode: 0 Status: OK