Package: oncoscanR Version: 1.4.0 Command: /home/biocbuild/R/R-4.3.1/bin/R CMD INSTALL oncoscanR StartedAt: 2023-11-01 20:10:24 -0000 (Wed, 01 Nov 2023) EndedAt: 2023-11-01 20:10:41 -0000 (Wed, 01 Nov 2023) EllapsedTime: 17.0 seconds RetCode: 0 Status: OK