Package: ompBAM Version: 1.6.0 Command: /home/biocbuild/bbs-3.18-bioc/R/bin/R CMD INSTALL ompBAM StartedAt: 2024-04-15 15:45:48 -0400 (Mon, 15 Apr 2024) EndedAt: 2024-04-15 15:45:50 -0400 (Mon, 15 Apr 2024) EllapsedTime: 2.4 seconds RetCode: 0 Status: OK