Package: ompBAM Version: 1.6.0 Command: rm -rf ompBAM.buildbin-libdir && mkdir ompBAM.buildbin-libdir && /Users/biocbuild/BBS/utils/build-universal.sh ompBAM_1.6.0.tar.gz /Library/Frameworks/R.framework/Resources/bin/R ompBAM.buildbin-libdir StartedAt: 2024-04-16 12:21:40 -0400 (Tue, 16 Apr 2024) EndedAt: 2024-04-16 12:21:47 -0400 (Tue, 16 Apr 2024) EllapsedTime: 6.6 seconds RetCode: 0 Status: OK PackageFile: ompBAM_1.6.0.tgz PackageFileSize: 3.144 MiB