Package: ompBAM Version: 1.6.0 Command: /home/biocbuild/R/R-4.3.1/bin/R CMD build --keep-empty-dirs --no-resave-data ompBAM StartedAt: 2023-11-02 04:14:03 -0000 (Thu, 02 Nov 2023) EndedAt: 2023-11-02 04:14:28 -0000 (Thu, 02 Nov 2023) EllapsedTime: 25.0 seconds RetCode: 0 Status: OK PackageFile: ompBAM_1.6.0.tar.gz PackageFileSize: 3.208 MiB