Package: omicsViewer Version: 1.6.0 Command: /Library/Frameworks/R.framework/Resources/bin/R CMD build --keep-empty-dirs --no-resave-data omicsViewer StartedAt: 2024-03-03 17:38:44 -0500 (Sun, 03 Mar 2024) EndedAt: 2024-03-03 17:39:45 -0500 (Sun, 03 Mar 2024) EllapsedTime: 60.8 seconds RetCode: 0 Status: OK PackageFile: omicsViewer_1.6.0.tar.gz PackageFileSize: 4.317 MiB