Package: omicsViewer Version: 1.6.0 Command: rm -rf omicsViewer.buildbin-libdir && mkdir omicsViewer.buildbin-libdir && /Users/biocbuild/BBS/utils/build-universal.sh omicsViewer_1.6.0.tar.gz /Library/Frameworks/R.framework/Resources/bin/R omicsViewer.buildbin-libdir StartedAt: 2024-03-04 00:54:26 -0500 (Mon, 04 Mar 2024) EndedAt: 2024-03-04 00:55:16 -0500 (Mon, 04 Mar 2024) EllapsedTime: 49.9 seconds RetCode: 0 Status: OK PackageFile: omicsViewer_1.6.0.tgz PackageFileSize: 4.328 MiB