Package: omicsViewer Version: 1.6.0 Command: /home/biocbuild/R/R-4.3.1/bin/R CMD build --keep-empty-dirs --no-resave-data omicsViewer StartedAt: 2023-11-02 04:12:14 -0000 (Thu, 02 Nov 2023) EndedAt: 2023-11-02 04:14:07 -0000 (Thu, 02 Nov 2023) EllapsedTime: 113.5 seconds RetCode: 0 Status: OK PackageFile: omicsViewer_1.6.0.tar.gz PackageFileSize: 4.38 MiB