Package: omicplotR Version: 1.22.0 Command: /home/biocbuild/bbs-3.18-bioc/R/bin/R CMD INSTALL omicplotR StartedAt: 2024-04-15 15:40:28 -0400 (Mon, 15 Apr 2024) EndedAt: 2024-04-15 15:40:53 -0400 (Mon, 15 Apr 2024) EllapsedTime: 25.0 seconds RetCode: 0 Status: OK