Package: omada Version: 1.4.0 Command: rm -rf omada.buildbin-libdir && mkdir omada.buildbin-libdir && F:\biocbuild\bbs-3.18-bioc\R\bin\R.exe CMD INSTALL --build --library=omada.buildbin-libdir omada_1.4.0.tar.gz StartedAt: 2024-04-16 07:23:15 -0400 (Tue, 16 Apr 2024) EndedAt: 2024-04-16 07:23:35 -0400 (Tue, 16 Apr 2024) EllapsedTime: 19.3 seconds RetCode: 0 Status: OK PackageFile: omada_1.4.0.zip PackageFileSize: 208.9 KiB