Package: odseq Version: 1.30.0 Command: /home/biocbuild/bbs-3.18-bioc/R/bin/R CMD build --keep-empty-dirs --no-resave-data odseq StartedAt: 2024-04-15 18:15:48 -0400 (Mon, 15 Apr 2024) EndedAt: 2024-04-15 18:16:33 -0400 (Mon, 15 Apr 2024) EllapsedTime: 44.3 seconds RetCode: 0 Status: OK PackageFile: odseq_1.30.0.tar.gz PackageFileSize: 229.9 KiB