Package: npGSEA Version: 1.38.0 Command: rm -rf npGSEA.buildbin-libdir && mkdir npGSEA.buildbin-libdir && F:\biocbuild\bbs-3.18-bioc\R\bin\R.exe CMD INSTALL --build --library=npGSEA.buildbin-libdir npGSEA_1.38.0.tar.gz StartedAt: 2024-04-16 07:22:50 -0400 (Tue, 16 Apr 2024) EndedAt: 2024-04-16 07:23:19 -0400 (Tue, 16 Apr 2024) EllapsedTime: 28.7 seconds RetCode: 0 Status: OK PackageFile: npGSEA_1.38.0.zip PackageFileSize: 635.5 KiB