Package: npGSEA Version: 1.38.0 Command: /home/biocbuild/bbs-3.18-bioc/R/bin/R CMD check --install=check:npGSEA.install-out.txt --library=/home/biocbuild/bbs-3.18-bioc/R/site-library --timings npGSEA_1.38.0.tar.gz StartedAt: 2024-04-16 01:37:51 -0400 (Tue, 16 Apr 2024) EndedAt: 2024-04-16 01:40:06 -0400 (Tue, 16 Apr 2024) EllapsedTime: 135.3 seconds RetCode: 0 Status: OK CheckDir: npGSEA.Rcheck Warnings: 0