Package: npGSEA Version: 1.38.0 Command: /Library/Frameworks/R.framework/Resources/bin/R CMD INSTALL npGSEA StartedAt: 2024-04-15 15:32:11 -0400 (Mon, 15 Apr 2024) EndedAt: 2024-04-15 15:32:53 -0400 (Mon, 15 Apr 2024) EllapsedTime: 42.5 seconds RetCode: 0 Status: OK