Package: npGSEA Version: 1.38.0 Command: /Library/Frameworks/R.framework/Resources/bin/R CMD check --install=check:npGSEA.install-out.txt --library=/Library/Frameworks/R.framework/Resources/library --no-vignettes --timings npGSEA_1.38.0.tar.gz StartedAt: 2024-04-16 06:18:17 -0400 (Tue, 16 Apr 2024) EndedAt: 2024-04-16 06:22:04 -0400 (Tue, 16 Apr 2024) EllapsedTime: 227.5 seconds RetCode: 0 Status: OK CheckDir: npGSEA.Rcheck Warnings: 0