Package: npGSEA Version: 1.38.0 Command: /Library/Frameworks/R.framework/Resources/bin/R CMD build --keep-empty-dirs --no-resave-data npGSEA StartedAt: 2024-03-03 17:37:20 -0500 (Sun, 03 Mar 2024) EndedAt: 2024-03-03 17:38:04 -0500 (Sun, 03 Mar 2024) EllapsedTime: 43.7 seconds RetCode: 0 Status: OK PackageFile: npGSEA_1.38.0.tar.gz PackageFileSize: 372.5 KiB