Package: normr Version: 1.28.0 Command: chmod a+r normr -R && F:\biocbuild\bbs-3.18-bioc\R\bin\R.exe CMD build --keep-empty-dirs --no-resave-data normr StartedAt: 2024-04-15 19:56:08 -0400 (Mon, 15 Apr 2024) EndedAt: 2024-04-15 19:57:49 -0400 (Mon, 15 Apr 2024) EllapsedTime: 101.1 seconds RetCode: 0 Status: OK PackageFile: normr_1.28.0.tar.gz PackageFileSize: 2.935 MiB