Package: normr Version: 1.28.0 Command: rm -rf normr.buildbin-libdir && mkdir normr.buildbin-libdir && F:\biocbuild\bbs-3.18-bioc\R\bin\R.exe CMD INSTALL --build --library=normr.buildbin-libdir normr_1.28.0.tar.gz StartedAt: 2024-04-16 07:22:43 -0400 (Tue, 16 Apr 2024) EndedAt: 2024-04-16 07:23:50 -0400 (Tue, 16 Apr 2024) EllapsedTime: 67.1 seconds RetCode: 0 Status: OK PackageFile: normr_1.28.0.zip PackageFileSize: 3.736 MiB