Package: nnSVG Version: 1.6.4 Command: F:\biocbuild\bbs-3.18-bioc\R\bin\R.exe CMD INSTALL nnSVG StartedAt: 2024-04-15 15:56:34 -0400 (Mon, 15 Apr 2024) EndedAt: 2024-04-15 15:57:11 -0400 (Mon, 15 Apr 2024) EllapsedTime: 36.7 seconds RetCode: 0 Status: OK