Package: nnSVG Version: 1.6.0 Command: /Library/Frameworks/R.framework/Resources/bin/R CMD INSTALL nnSVG StartedAt: 2024-03-03 15:16:21 -0500 (Sun, 03 Mar 2024) EndedAt: 2024-03-03 15:16:56 -0500 (Sun, 03 Mar 2024) EllapsedTime: 34.8 seconds RetCode: 0 Status: OK